BEGIN:VCALENDAR
VERSION:2.0
PRODID:-//wowchildrensmuseum.org//NONSGML kigkonsult.se iCalcreator 2.30.10
 //
CALSCALE:GREGORIAN
METHOD:PUBLISH
UID:5f2c44b0-1b0c-45b6-9890-8a3aa40500be
X-WR-CALDESC:Join us a special all ages story time!\n\nIncluded with Museum
  Admission or Membership.
X-WR-RELCALID:2c3bce9268df6762067936dd9860c217
X-WR-TIMEZONE:America/Denver
BEGIN:VTIMEZONE
TZID:America/Denver
BEGIN:STANDARD
TZNAME:MST
DTSTART:20231105T020000
TZOFFSETFROM:-0600
TZOFFSETTO:-0700
RDATE:20241103T020000
END:STANDARD
BEGIN:DAYLIGHT
TZNAME:MDT
DTSTART:20240310T020000
TZOFFSETFROM:-0700
TZOFFSETTO:-0600
RDATE:20250309T020000
END:DAYLIGHT
END:VTIMEZONE
BEGIN:VEVENT
UID:27df7b1b-4b72-4e4f-b0fa-a8bf5a7db252
DTSTAMP:20260422T110659Z
DESCRIPTION:Join us a special all ages story time!\n\nIncluded with Museum 
 Admission or Membership.
DTSTART;TZID=America/Denver:20240411T110000
DTEND;TZID=America/Denver:20240411T113000
LOCATION:
SUMMARY:Storytime
END:VEVENT
END:VCALENDAR
