BEGIN:VCALENDAR
VERSION:2.0
PRODID:-//wowchildrensmuseum.org//NONSGML kigkonsult.se iCalcreator 2.30.10
 //
CALSCALE:GREGORIAN
METHOD:PUBLISH
UID:c6a96838-dce9-43ca-82eb-3828df348bd9
X-WR-CALDESC:What can you build with boxes? The possibilities are endless! 
 This is a drop-in program. It will start at 11:00am and run until material
 s run out.\n\nIncluded with Museum Admission or Membership.
X-WR-RELCALID:43dc10eff3e111948372c36d8c34480b
X-WR-TIMEZONE:America/Denver
BEGIN:VTIMEZONE
TZID:America/Denver
BEGIN:STANDARD
TZNAME:MST
DTSTART:20231105T020000
TZOFFSETFROM:-0600
TZOFFSETTO:-0700
RDATE:20241103T020000
END:STANDARD
BEGIN:DAYLIGHT
TZNAME:MDT
DTSTART:20240310T020000
TZOFFSETFROM:-0700
TZOFFSETTO:-0600
RDATE:20250309T020000
END:DAYLIGHT
END:VTIMEZONE
BEGIN:VEVENT
UID:ea516cff-f84a-4ed0-973d-c3a78bbd4d72
DTSTAMP:20260422T130027Z
DESCRIPTION:What can you build with boxes? The possibilities are endless! T
 his is a drop-in program. It will start at 11:00am and run until materials
  run out.\n\nIncluded with Museum Admission or Membership.
DTSTART;TZID=America/Denver:20240328T110000
DTEND;TZID=America/Denver:20240328T160000
LOCATION:
SUMMARY:Cardboard Creations
END:VEVENT
END:VCALENDAR
