BEGIN:VCALENDAR
VERSION:2.0
PRODID:-//wowchildrensmuseum.org//NONSGML kigkonsult.se iCalcreator 2.30.10
 //
CALSCALE:GREGORIAN
METHOD:PUBLISH
UID:1b5d37b6-d90a-4581-bdc2-e6649af77829
X-WR-CALDESC:Join local author Jolene Gutiérrez as she reads a selection of
  her books\, including her newest release\, 'Too Much!' at WOW! Books will
  be available for purchase.\n\nIncluded with Museum Admission or Membershi
 p.
X-WR-RELCALID:563bc785717cbf7daaa634cf35a2c83f
X-WR-TIMEZONE:America/Denver
BEGIN:VTIMEZONE
TZID:America/Denver
BEGIN:STANDARD
TZNAME:MST
DTSTART:20231105T020000
TZOFFSETFROM:-0600
TZOFFSETTO:-0700
RDATE:20241103T020000
END:STANDARD
BEGIN:DAYLIGHT
TZNAME:MDT
DTSTART:20240310T020000
TZOFFSETFROM:-0700
TZOFFSETTO:-0600
RDATE:20250309T020000
END:DAYLIGHT
END:VTIMEZONE
BEGIN:VEVENT
UID:abf946f4-96e8-4355-9e9a-01a2bc543bd6
DTSTAMP:20260422T130021Z
DESCRIPTION:Join local author Jolene Gutiérrez as she reads a selection of 
 her books\, including her newest release\, 'Too Much!' at WOW! Books will 
 be available for purchase.\n\nIncluded with Museum Admission or Membership
 .
DTSTART;TZID=America/Denver:20240328T100000
DTEND;TZID=America/Denver:20240328T103000
LOCATION:
SUMMARY:'Too Much!' Storytime w/ author Jolene Gutiérrez
END:VEVENT
END:VCALENDAR
