BEGIN:VCALENDAR
VERSION:2.0
PRODID:-//wowchildrensmuseum.org//NONSGML kigkonsult.se iCalcreator 2.30.10
 //
CALSCALE:GREGORIAN
METHOD:PUBLISH
UID:e39e2ad0-c76e-4357-8b2e-5dd4baa57fef
X-WR-CALDESC:It's BVSD Spring Break week\, so come to WOW! for extra progra
 mming all week long! Join us in our Activity Rooms for watercolor painting
  beginning at 10:00am.\n\nIncluded with Museum Admission or Membership.
X-WR-RELCALID:975bd719f548f3292233142df8acdad7
X-WR-TIMEZONE:America/Denver
BEGIN:VTIMEZONE
TZID:America/Denver
BEGIN:STANDARD
TZNAME:MST
DTSTART:20231105T020000
TZOFFSETFROM:-0600
TZOFFSETTO:-0700
RDATE:20241103T020000
END:STANDARD
BEGIN:DAYLIGHT
TZNAME:MDT
DTSTART:20240310T020000
TZOFFSETFROM:-0700
TZOFFSETTO:-0600
RDATE:20250309T020000
END:DAYLIGHT
END:VTIMEZONE
BEGIN:VEVENT
UID:0b880311-03a3-4522-a13e-6c497d709da9
DTSTAMP:20260422T124834Z
DESCRIPTION:It's BVSD Spring Break week\, so come to WOW! for extra program
 ming all week long! Join us in our Activity Rooms for watercolor painting 
 beginning at 10:00am.\n\nIncluded with Museum Admission or Membership.
DTSTART;TZID=America/Denver:20240326T100000
DTEND;TZID=America/Denver:20240326T110000
LOCATION:
SUMMARY:Watercoloring Painting
END:VEVENT
END:VCALENDAR
