BEGIN:VCALENDAR
VERSION:2.0
PRODID:-//wowchildrensmuseum.org//NONSGML kigkonsult.se iCalcreator 2.30.10
 //
CALSCALE:GREGORIAN
METHOD:PUBLISH
UID:1912f3ba-b7fe-4957-bd8d-441d76df9c2e
X-WR-CALDESC:It's BVSD Spring Break and the Museum is open! Come and play b
 etween 9:00am-5:00pm today.
X-WR-RELCALID:de420b3cfec6d3b386569bf9212ffd87
X-WR-TIMEZONE:America/Denver
BEGIN:VTIMEZONE
TZID:America/Denver
BEGIN:STANDARD
TZNAME:MST
DTSTART:20231105T020000
TZOFFSETFROM:-0600
TZOFFSETTO:-0700
RDATE:20241103T020000
END:STANDARD
BEGIN:DAYLIGHT
TZNAME:MDT
DTSTART:20240310T020000
TZOFFSETFROM:-0700
TZOFFSETTO:-0600
RDATE:20250309T020000
END:DAYLIGHT
END:VTIMEZONE
BEGIN:VEVENT
UID:be72e70c-6224-41b0-a7a3-e86b1cadd21c
DTSTAMP:20260422T123934Z
DESCRIPTION:It's BVSD Spring Break and the Museum is open! Come and play be
 tween 9:00am-5:00pm today.
DTSTART;TZID=America/Denver:20240325T090000
DTEND;TZID=America/Denver:20240325T170000
LOCATION:
SUMMARY:MUSEUM OPEN- Spring Break
END:VEVENT
END:VCALENDAR
