BEGIN:VCALENDAR
VERSION:2.0
PRODID:-//wowchildrensmuseum.org//NONSGML kigkonsult.se iCalcreator 2.30.10
 //
CALSCALE:GREGORIAN
METHOD:PUBLISH
UID:6b141c77-7dc8-468e-afc3-6ef992d14ae9
X-WR-CALDESC:It is BVSD Spring Break\, so WOW! has extra programming runnin
 g all week! Join us at 10:00 Monday 3/25 for helicopter building\, then tr
 y yours out in the Wind Room!\n\nIncluded with Museum Admission or Members
 hip.
X-WR-RELCALID:2616b78396f70e3c8dccad854f60e851
X-WR-TIMEZONE:America/Denver
BEGIN:VTIMEZONE
TZID:America/Denver
BEGIN:STANDARD
TZNAME:MST
DTSTART:20231105T020000
TZOFFSETFROM:-0600
TZOFFSETTO:-0700
RDATE:20241103T020000
END:STANDARD
BEGIN:DAYLIGHT
TZNAME:MDT
DTSTART:20240310T020000
TZOFFSETFROM:-0700
TZOFFSETTO:-0600
RDATE:20250309T020000
END:DAYLIGHT
END:VTIMEZONE
BEGIN:VEVENT
UID:bac442a4-3124-401b-b5f8-6531ee217875
DTSTAMP:20260422T124143Z
DESCRIPTION:It is BVSD Spring Break\, so WOW! has extra programming running
  all week! Join us at 10:00 Monday 3/25 for helicopter building\, then try
  yours out in the Wind Room!\n\nIncluded with Museum Admission or Membersh
 ip.
DTSTART;TZID=America/Denver:20240325T100000
DTEND;TZID=America/Denver:20240325T110000
LOCATION:
SUMMARY:Build Helicopters!
END:VEVENT
END:VCALENDAR
