BEGIN:VCALENDAR
VERSION:2.0
PRODID:-//wowchildrensmuseum.org//NONSGML kigkonsult.se iCalcreator 2.30.10
 //
CALSCALE:GREGORIAN
METHOD:PUBLISH
UID:64e36607-9425-4abd-8f66-f37dfd96c285
X-WR-CALDESC:Join us for Sensory Friendly Playtime\, a special Museum progr
 am for children with autism spectrum or sensory processing disorders. WOW!
  will limit capacity\, turn down sounds and lights\, and provide adaptive 
 equipment to offer a safe and fun experience for all! \n\nPlease note that
  the time for March's Sensory Friendly Playtime is 1:00-3:00pm.\n\nAdmissi
 on is $1 for participants thanks to WOW!'s donor-supported Play for All In
 itiative.
X-WR-RELCALID:a77dd5ad03a5fced0e5ae574feddde15
X-WR-TIMEZONE:America/Denver
BEGIN:VTIMEZONE
TZID:America/Denver
BEGIN:STANDARD
TZNAME:MST
DTSTART:20231105T020000
TZOFFSETFROM:-0600
TZOFFSETTO:-0700
RDATE:20241103T020000
END:STANDARD
BEGIN:DAYLIGHT
TZNAME:MDT
DTSTART:20240310T020000
TZOFFSETFROM:-0700
TZOFFSETTO:-0600
RDATE:20250309T020000
END:DAYLIGHT
END:VTIMEZONE
BEGIN:VEVENT
UID:e0eff087-44d2-48e6-b304-bfb8182c0267
DTSTAMP:20260422T124005Z
DESCRIPTION:Join us for Sensory Friendly Playtime\, a special Museum progra
 m for children with autism spectrum or sensory processing disorders. WOW! 
 will limit capacity\, turn down sounds and lights\, and provide adaptive e
 quipment to offer a safe and fun experience for all! \n\nPlease note that 
 the time for March's Sensory Friendly Playtime is 1:00-3:00pm.\n\nAdmissio
 n is $1 for participants thanks to WOW!'s donor-supported Play for All Ini
 tiative.
DTSTART;TZID=America/Denver:20240317T130000
DTEND;TZID=America/Denver:20240317T150000
LOCATION:WOW! Children's Museum
SUMMARY:Sensory Friendly Playtime
END:VEVENT
END:VCALENDAR
