BEGIN:VCALENDAR
VERSION:2.0
PRODID:-//wowchildrensmuseum.org//NONSGML kigkonsult.se iCalcreator 2.30.10
 //
CALSCALE:GREGORIAN
METHOD:PUBLISH
UID:b2870e3e-2a17-4378-857a-e1dcbca6efeb
X-WR-CALDESC:Get into the spirit of St. Patrick's Day with a special perfor
 mance by the McTeggart Irish Dancers!\n\nIncluded with Museum Admission or
  Membership.
X-WR-RELCALID:922ee34837818af5cf9c07e7811bc319
X-WR-TIMEZONE:America/Denver
BEGIN:VTIMEZONE
TZID:America/Denver
BEGIN:STANDARD
TZNAME:MST
DTSTART:20231105T020000
TZOFFSETFROM:-0600
TZOFFSETTO:-0700
RDATE:20241103T020000
END:STANDARD
BEGIN:DAYLIGHT
TZNAME:MDT
DTSTART:20240310T020000
TZOFFSETFROM:-0700
TZOFFSETTO:-0600
RDATE:20250309T020000
END:DAYLIGHT
END:VTIMEZONE
BEGIN:VEVENT
UID:a0c62ae3-a766-45c6-9a26-b36b7411c481
DTSTAMP:20260422T124806Z
DESCRIPTION:Get into the spirit of St. Patrick's Day with a special perform
 ance by the McTeggart Irish Dancers!\n\nIncluded with Museum Admission or 
 Membership.
DTSTART;TZID=America/Denver:20240316T100000
DTEND;TZID=America/Denver:20240316T103000
LOCATION:
SUMMARY:McTeggart Irish Dancers
END:VEVENT
END:VCALENDAR
