BEGIN:VCALENDAR
VERSION:2.0
PRODID:-//wowchildrensmuseum.org//NONSGML kigkonsult.se iCalcreator 2.30.10
 //
CALSCALE:GREGORIAN
METHOD:PUBLISH
UID:923ec4bd-08aa-488a-853f-0f8ba11d55df
X-WR-CALDESC:School is out and WOW! is open! We are open regular business h
 ours today- 9:00am to 5:00pm.
X-WR-RELCALID:f51c6ed7be02bf631616d433ec9f2351
X-WR-TIMEZONE:America/Denver
BEGIN:VTIMEZONE
TZID:America/Denver
BEGIN:STANDARD
TZNAME:MST
DTSTART:20231105T020000
TZOFFSETFROM:-0600
TZOFFSETTO:-0700
RDATE:20241103T020000
END:STANDARD
BEGIN:DAYLIGHT
TZNAME:MDT
DTSTART:20230312T020000
TZOFFSETFROM:-0700
TZOFFSETTO:-0600
RDATE:20240310T020000
RDATE:20250309T020000
END:DAYLIGHT
END:VTIMEZONE
BEGIN:VEVENT
UID:b29c15e3-777b-41fa-b1a3-7545ef928723
DTSTAMP:20260422T162556Z
DESCRIPTION:School is out and WOW! is open! We are open regular business ho
 urs today- 9:00am to 5:00pm.
DTSTART;TZID=America/Denver:20240115T040000
DTEND;TZID=America/Denver:20240115T040001
LOCATION:110 N Harrison Ave\, Lafayette\, CO 80026 US
SUMMARY:MUSEUM OPEN- MLK Jr. Day
END:VEVENT
END:VCALENDAR
