BEGIN:VCALENDAR
VERSION:2.0
PRODID:-//wowchildrensmuseum.org//NONSGML kigkonsult.se iCalcreator 2.30.10
 //
CALSCALE:GREGORIAN
METHOD:PUBLISH
UID:cfbea423-8f52-44ac-851f-9d4ad531f529
X-WR-CALDESC:WOW! is closed today for the holiday.
X-WR-RELCALID:f6d1a01183e656a7f817a527379a32f1
X-WR-TIMEZONE:America/Denver
BEGIN:VTIMEZONE
TZID:America/Denver
BEGIN:STANDARD
TZNAME:MST
DTSTART:20231105T020000
TZOFFSETFROM:-0600
TZOFFSETTO:-0700
RDATE:20241103T020000
END:STANDARD
BEGIN:DAYLIGHT
TZNAME:MDT
DTSTART:20230312T020000
TZOFFSETFROM:-0700
TZOFFSETTO:-0600
RDATE:20240310T020000
RDATE:20250309T020000
END:DAYLIGHT
END:VTIMEZONE
BEGIN:VEVENT
UID:b5ea06ed-f56e-412e-86e0-dfc32b2929b7
DTSTAMP:20260422T175746Z
DESCRIPTION:WOW! is closed today for the holiday.
DTSTART;TZID=America/Denver:20231224T040000
DTEND;TZID=America/Denver:20231224T040001
LOCATION:
SUMMARY:Museum Closed
END:VEVENT
END:VCALENDAR
