BEGIN:VCALENDAR
VERSION:2.0
PRODID:-//wowchildrensmuseum.org//NONSGML kigkonsult.se iCalcreator 2.30.10
 //
CALSCALE:GREGORIAN
METHOD:PUBLISH
UID:d09ea231-48c4-4d74-9e37-000fb2fa8099
X-WR-CALDESC:Due to unforeseen roof repair\, WOW! will unfortunately be clo
 sed today. We apologize for the inconvenience! Keep checking our website a
 nd social media pages for updates.
X-WR-RELCALID:250726329bfa6873e832797d40846b96
X-WR-TIMEZONE:America/Denver
BEGIN:VTIMEZONE
TZID:America/Denver
BEGIN:STANDARD
TZNAME:MST
DTSTART:20231105T020000
TZOFFSETFROM:-0600
TZOFFSETTO:-0700
RDATE:20241103T020000
END:STANDARD
BEGIN:DAYLIGHT
TZNAME:MDT
DTSTART:20230312T020000
TZOFFSETFROM:-0700
TZOFFSETTO:-0600
RDATE:20240310T020000
RDATE:20250309T020000
END:DAYLIGHT
END:VTIMEZONE
BEGIN:VEVENT
UID:27b01a16-3114-49c2-ba8f-6f735777c4f1
DTSTAMP:20260422T175653Z
DESCRIPTION:Due to unforeseen roof repair\, WOW! will unfortunately be clos
 ed today. We apologize for the inconvenience! Keep checking our website an
 d social media pages for updates.
DTSTART;TZID=America/Denver:20231201T040000
DTEND;TZID=America/Denver:20231201T040001
LOCATION:110 N Harrison Ave\, Lafayette\, CO 80026 US
SUMMARY:CLOSED TODAY
END:VEVENT
END:VCALENDAR
