BEGIN:VCALENDAR
VERSION:2.0
PRODID:-//wowchildrensmuseum.org//NONSGML kigkonsult.se iCalcreator 2.30.10
 //
CALSCALE:GREGORIAN
METHOD:PUBLISH
UID:0b48e3e1-ec78-40bd-87fe-f6a5f7431cea
X-WR-CALDESC:Join us a special all ages story time!\n\nIncluded with Museum
  Admission or Membership.
X-WR-RELCALID:9dbb98ce3cd065bd37dc241ef2052319
X-WR-TIMEZONE:America/Denver
BEGIN:VTIMEZONE
TZID:America/Denver
BEGIN:STANDARD
TZNAME:MST
DTSTART:20231105T020000
TZOFFSETFROM:-0600
TZOFFSETTO:-0700
RDATE:20241103T020000
END:STANDARD
BEGIN:DAYLIGHT
TZNAME:MDT
DTSTART:20230312T020000
TZOFFSETFROM:-0700
TZOFFSETTO:-0600
RDATE:20240310T020000
RDATE:20250309T020000
END:DAYLIGHT
END:VTIMEZONE
BEGIN:VEVENT
UID:58defdf0-11b9-405c-b496-ed2a03e86943
DTSTAMP:20260422T195052Z
DESCRIPTION:Join us a special all ages story time!\n\nIncluded with Museum 
 Admission or Membership.
DTSTART;TZID=America/Denver:20231116T110000
DTEND;TZID=America/Denver:20231116T113000
LOCATION:
SUMMARY:Storytime
END:VEVENT
END:VCALENDAR
