BEGIN:VCALENDAR
VERSION:2.0
PRODID:-//wowchildrensmuseum.org//NONSGML kigkonsult.se iCalcreator 2.30.10
 //
CALSCALE:GREGORIAN
METHOD:PUBLISH
UID:f2749a39-3dbc-4ba4-ba9f-c8b3150fde6a
X-WR-CALDESC:WOW! Gets Wild for WOW! on Tap 2023. Join us (21y+) for our bi
 ggest fundraiser of the year. Party in the museum like a kid\, enjoy anima
 ls from Nature's Educators\, bid in the awesome silent auction\, and help 
 us raise money for our Play For All Initiative. Heavy appetizers by Savory
  Cuisines Catering\, Music by Jenn Cleary\, Drinks by UpSlope\, High Count
 ry Beverage\, Grüvi\, Stem Cidery\, Cellar West\, and more! CHILDCARE AVAI
 LABLE - ADD IT AT CHECKOUT!
X-WR-RELCALID:544dc9b7bb96f09953c57947972e7a06
X-WR-TIMEZONE:America/Denver
BEGIN:VTIMEZONE
TZID:America/Denver
BEGIN:STANDARD
TZNAME:MST
DTSTART:20221106T020000
TZOFFSETFROM:-0600
TZOFFSETTO:-0700
RDATE:20231105T020000
RDATE:20241103T020000
END:STANDARD
BEGIN:DAYLIGHT
TZNAME:MDT
DTSTART:20230312T020000
TZOFFSETFROM:-0700
TZOFFSETTO:-0600
RDATE:20240310T020000
RDATE:20250309T020000
END:DAYLIGHT
END:VTIMEZONE
BEGIN:VEVENT
UID:27024d81-a720-4ea6-8236-77ca7351c4d4
DTSTAMP:20260422T225216Z
DESCRIPTION:WOW! Gets Wild for WOW! on Tap 2023. Join us (21y+) for our big
 gest fundraiser of the year. Party in the museum like a kid\, enjoy animal
 s from Nature's Educators\, bid in the awesome silent auction\, and help u
 s raise money for our Play For All Initiative. Heavy appetizers by Savory 
 Cuisines Catering\, Music by Jenn Cleary\, Drinks by UpSlope\, High Countr
 y Beverage\, Grüvi\, Stem Cidery\, Cellar West\, and more! CHILDCARE AVAIL
 ABLE - ADD IT AT CHECKOUT!
DTSTART;TZID=America/Denver:20230915T180000
DTEND;TZID=America/Denver:20230915T213000
LOCATION:
SUMMARY:WOW! on Tap ($) (21y+)
END:VEVENT
END:VCALENDAR
