BEGIN:VCALENDAR
VERSION:2.0
PRODID:-//wowchildrensmuseum.org//NONSGML kigkonsult.se iCalcreator 2.30.10
 //
CALSCALE:GREGORIAN
METHOD:PUBLISH
UID:060d5b62-d7c2-4c59-a6bb-be19af50833f
X-WR-CALDESC:Join us in the Discovery Garden to release live ladybugs in ou
 r garden and make a ladybug craft too!\n\nIncluded with Museum Admission o
 r Membership.
X-WR-RELCALID:9cad8c653c7326a2bbae4d864fecedeb
X-WR-TIMEZONE:America/Denver
BEGIN:VTIMEZONE
TZID:America/Denver
BEGIN:STANDARD
TZNAME:MST
DTSTART:20221106T020000
TZOFFSETFROM:-0600
TZOFFSETTO:-0700
RDATE:20231105T020000
RDATE:20241103T020000
END:STANDARD
BEGIN:DAYLIGHT
TZNAME:MDT
DTSTART:20230312T020000
TZOFFSETFROM:-0700
TZOFFSETTO:-0600
RDATE:20240310T020000
END:DAYLIGHT
END:VTIMEZONE
BEGIN:VEVENT
UID:634d108a-9e6d-4dbb-a432-026eb849b2dd
DTSTAMP:20260423T004153Z
DESCRIPTION:Join us in the Discovery Garden to release live ladybugs in our
  garden and make a ladybug craft too!\n\nIncluded with Museum Admission or
  Membership.
DTSTART;TZID=America/Denver:20230810T110000
DTEND;TZID=America/Denver:20230810T113000
LOCATION:
SUMMARY:Ladybugs Live!
END:VEVENT
END:VCALENDAR
