BEGIN:VCALENDAR
VERSION:2.0
PRODID:-//wowchildrensmuseum.org//NONSGML kigkonsult.se iCalcreator 2.30.10
 //
CALSCALE:GREGORIAN
METHOD:PUBLISH
UID:cb3a23ca-2c66-48dd-aa01-6abc928c8feb
X-WR-CALDESC:To serve the preferences of all of our visitors\, masks will b
 e required of everyone ages 3+ between 9:00am-12:00pm Wednesdays. Masks ar
 e not required the rest of the week.
X-WR-RELCALID:4e6485bc2d1e24a185b8af6e79b88709
X-WR-TIMEZONE:America/Denver
BEGIN:VTIMEZONE
TZID:America/Denver
BEGIN:STANDARD
TZNAME:MST
DTSTART:20221106T020000
TZOFFSETFROM:-0600
TZOFFSETTO:-0700
RDATE:20231105T020000
RDATE:20241103T020000
END:STANDARD
BEGIN:DAYLIGHT
TZNAME:MDT
DTSTART:20230312T020000
TZOFFSETFROM:-0700
TZOFFSETTO:-0600
RDATE:20240310T020000
END:DAYLIGHT
END:VTIMEZONE
BEGIN:VEVENT
UID:67e19944-bd63-46a4-bafa-eb43b4e54ed9
DTSTAMP:20260423T022315Z
DESCRIPTION:To serve the preferences of all of our visitors\, masks will be
  required of everyone ages 3+ between 9:00am-12:00pm Wednesdays. Masks are
  not required the rest of the week.
DTSTART;TZID=America/Denver:20230719T090000
DTEND;TZID=America/Denver:20230719T120000
LOCATION:
SUMMARY:Masks Required Morning
END:VEVENT
END:VCALENDAR
