BEGIN:VCALENDAR
VERSION:2.0
PRODID:-//wowchildrensmuseum.org//NONSGML kigkonsult.se iCalcreator 2.30.10
 //
CALSCALE:GREGORIAN
METHOD:PUBLISH
UID:43a2093e-12dc-4ff5-b4aa-c8e4024dc9b0
X-WR-CALDESC:A series of hands-on programs for infants and toddlers (ages 0
 -3 years) and their caregivers to explore fine motor\, gross motor\, and c
 ognitive experiences.\n\nInfants and toddlers are learning and developing 
 every second of every day. Our “Littlest Learners“ classes are designed wi
 th your child in mind. Classes will be held in a designated space for just
  our youngest visitors where children will explore gross motor\, fine moto
 r\, and cognitive experiences. Classes will encourage:\n\n-Gross motor dev
 elopment\n-Fine motor development\n-Cognitive development\n-Emotional deve
 lopment\n-Social development\n\nIt is our hope that caregivers will have t
 he opportunity to form bonds and relationships with other caregivers too!
 \n\nNo registration required. Included with Museum Admission or Membership
 .
X-WR-RELCALID:95c33c7af9667b5a1d3aeab7a23dbe6b
X-WR-TIMEZONE:America/Denver
BEGIN:VTIMEZONE
TZID:America/Denver
BEGIN:STANDARD
TZNAME:MST
DTSTART:20221106T020000
TZOFFSETFROM:-0600
TZOFFSETTO:-0700
RDATE:20231105T020000
RDATE:20241103T020000
END:STANDARD
BEGIN:DAYLIGHT
TZNAME:MDT
DTSTART:20230312T020000
TZOFFSETFROM:-0700
TZOFFSETTO:-0600
RDATE:20240310T020000
END:DAYLIGHT
END:VTIMEZONE
BEGIN:VEVENT
UID:33ac6a46-3b47-4101-b908-4edf85bb5e76
DTSTAMP:20260423T021734Z
DESCRIPTION:A series of hands-on programs for infants and toddlers (ages 0-
 3 years) and their caregivers to explore fine motor\, gross motor\, and co
 gnitive experiences.\n\nInfants and toddlers are learning and developing e
 very second of every day. Our “Littlest Learners“ classes are designed wit
 h your child in mind. Classes will be held in a designated space for just 
 our youngest visitors where children will explore gross motor\, fine motor
 \, and cognitive experiences. Classes will encourage:\n\n-Gross motor deve
 lopment\n-Fine motor development\n-Cognitive development\n-Emotional devel
 opment\n-Social development\n\nIt is our hope that caregivers will have th
 e opportunity to form bonds and relationships with other caregivers too!\n
 \nNo registration required. Included with Museum Admission or Membership.
DTSTART;TZID=America/Denver:20230712T093000
DTEND;TZID=America/Denver:20230712T100000
LOCATION:
SUMMARY:Littlest Learners
END:VEVENT
END:VCALENDAR
