BEGIN:VCALENDAR
VERSION:2.0
PRODID:-//wowchildrensmuseum.org//NONSGML kigkonsult.se iCalcreator 2.30.10
 //
CALSCALE:GREGORIAN
METHOD:PUBLISH
UID:9a13b5ab-b1e5-4559-8241-c05c3abaea18
X-WR-CALDESC:Ages: 5-9\n\nLet your imagination run wild with tens of thousa
 nds of LEGO® parts as we design and build leaping dolphins\, buzzing beehi
 ves\, and towering giraffes. Play\, create\, and learn in a world inspired
  by the animal kingdom. Design and build as never before and explore your 
 craziest ideas.\n\n$165/person - This program is presented by our partner\
 , Play-Well TEKnologies\n
X-WR-RELCALID:9f1148e2de8b0aef5b1fe542eeb65a61
X-WR-TIMEZONE:America/Denver
BEGIN:VTIMEZONE
TZID:America/Denver
BEGIN:STANDARD
TZNAME:MST
DTSTART:20221106T020000
TZOFFSETFROM:-0600
TZOFFSETTO:-0700
RDATE:20231105T020000
RDATE:20241103T020000
END:STANDARD
BEGIN:DAYLIGHT
TZNAME:MDT
DTSTART:20230312T020000
TZOFFSETFROM:-0700
TZOFFSETTO:-0600
RDATE:20240310T020000
END:DAYLIGHT
END:VTIMEZONE
BEGIN:VEVENT
UID:d1bc8623-0b29-4392-8657-3663fbf46fb7
DTSTAMP:20260423T035742Z
DESCRIPTION:Ages: 5-9\n\nLet your imagination run wild with tens of thousan
 ds of LEGO® parts as we design and build leaping dolphins\, buzzing beehiv
 es\, and towering giraffes. Play\, create\, and learn in a world inspired 
 by the animal kingdom. Design and build as never before and explore your c
 raziest ideas.\n\n$165/person - This program is presented by our partner\,
  Play-Well TEKnologies\n
DTSTART;TZID=America/Denver:20230622T130000
DTEND;TZID=America/Denver:20230622T160000
LOCATION:Pre-registration required
SUMMARY:Play-Well: Animal Adventures Camp with LEGO® Materials ($)
END:VEVENT
END:VCALENDAR
