BEGIN:VCALENDAR
VERSION:2.0
PRODID:-//wowchildrensmuseum.org//NONSGML kigkonsult.se iCalcreator 2.30.10
 //
CALSCALE:GREGORIAN
METHOD:PUBLISH
UID:4153bab9-7ae7-4de6-b0a4-83d9a8f670bf
X-WR-CALDESC:Visit with our friends from the Lafayette History Museum to ex
 plore objects from Lafayette's past! \n\nIncluded with Museum Admission or
  Membership.
X-WR-RELCALID:694e136aeaa9b9df99e18f270262b8e1
X-WR-TIMEZONE:America/Denver
BEGIN:VTIMEZONE
TZID:America/Denver
BEGIN:STANDARD
TZNAME:MST
DTSTART:20221106T020000
TZOFFSETFROM:-0600
TZOFFSETTO:-0700
RDATE:20231105T020000
RDATE:20241103T020000
END:STANDARD
BEGIN:DAYLIGHT
TZNAME:MDT
DTSTART:20230312T020000
TZOFFSETFROM:-0700
TZOFFSETTO:-0600
RDATE:20240310T020000
END:DAYLIGHT
END:VTIMEZONE
BEGIN:VEVENT
UID:c67f0914-2704-4ae8-98f7-1cbbd5583ba5
DTSTAMP:20260423T035441Z
DESCRIPTION:Visit with our friends from the Lafayette History Museum to exp
 lore objects from Lafayette's past! \n\nIncluded with Museum Admission or 
 Membership.
DTSTART;TZID=America/Denver:20230621T153000
DTEND;TZID=America/Denver:20230621T163000
LOCATION:
SUMMARY:'Way Back Whensday' with Lafayette History Museum
END:VEVENT
END:VCALENDAR
