BEGIN:VCALENDAR
VERSION:2.0
PRODID:-//wowchildrensmuseum.org//NONSGML kigkonsult.se iCalcreator 2.30.10
 //
CALSCALE:GREGORIAN
METHOD:PUBLISH
UID:cd2e8e4a-271e-4eb1-9589-3418952b9abc
X-WR-CALDESC:Visit with our friends from the Lafayette History Museum to ex
 plore objects from Lafayette's past! \n\nIncluded with Museum Admission or
  Membership.
X-WR-RELCALID:20f9e356906f0ae7b38fe23d6d805fa4
X-WR-TIMEZONE:America/Denver
BEGIN:VTIMEZONE
TZID:America/Denver
BEGIN:STANDARD
TZNAME:MST
DTSTART:20221106T020000
TZOFFSETFROM:-0600
TZOFFSETTO:-0700
RDATE:20231105T020000
RDATE:20241103T020000
END:STANDARD
BEGIN:DAYLIGHT
TZNAME:MDT
DTSTART:20230312T020000
TZOFFSETFROM:-0700
TZOFFSETTO:-0600
RDATE:20240310T020000
END:DAYLIGHT
END:VTIMEZONE
BEGIN:VEVENT
UID:d37adcaf-ca3c-4c66-b265-713b49601232
DTSTAMP:20260423T055011Z
DESCRIPTION:Visit with our friends from the Lafayette History Museum to exp
 lore objects from Lafayette's past! \n\nIncluded with Museum Admission or 
 Membership.
DTSTART;TZID=America/Denver:20230531T153000
DTEND;TZID=America/Denver:20230531T163000
LOCATION:
SUMMARY:'Way Back Whensday' with Lafayette History Museum
END:VEVENT
END:VCALENDAR
