BEGIN:VCALENDAR
VERSION:2.0
PRODID:-//wowchildrensmuseum.org//NONSGML kigkonsult.se iCalcreator 2.30.10
 //
CALSCALE:GREGORIAN
METHOD:PUBLISH
UID:970bf9d6-87fc-4618-921a-e33f36207eaa
X-WR-CALDESC:To serve the preferences of all of our visitors\, masks will b
 e required of everyone ages 3+ between 9:00am-12:00pm Wednesdays. Masks ar
 e not required the rest of the week.
X-WR-RELCALID:a3f2d7c8951f4d3b935042000f454626
X-WR-TIMEZONE:America/Denver
BEGIN:VTIMEZONE
TZID:America/Denver
BEGIN:STANDARD
TZNAME:MST
DTSTART:20221106T020000
TZOFFSETFROM:-0600
TZOFFSETTO:-0700
RDATE:20231105T020000
RDATE:20241103T020000
END:STANDARD
BEGIN:DAYLIGHT
TZNAME:MDT
DTSTART:20230312T020000
TZOFFSETFROM:-0700
TZOFFSETTO:-0600
RDATE:20240310T020000
END:DAYLIGHT
END:VTIMEZONE
BEGIN:VEVENT
UID:76f86211-863e-4d3b-95f1-69d0ba8e59de
DTSTAMP:20260423T054811Z
DESCRIPTION:To serve the preferences of all of our visitors\, masks will be
  required of everyone ages 3+ between 9:00am-12:00pm Wednesdays. Masks are
  not required the rest of the week.
DTSTART;TZID=America/Denver:20230517T090000
DTEND;TZID=America/Denver:20230517T120000
LOCATION:
SUMMARY:Masks Required Morning
END:VEVENT
END:VCALENDAR
