BEGIN:VCALENDAR
VERSION:2.0
PRODID:-//wowchildrensmuseum.org//NONSGML kigkonsult.se iCalcreator 2.30.10
 //
CALSCALE:GREGORIAN
METHOD:PUBLISH
UID:1f5f127c-101d-4106-b84b-992f9c5eb953
X-WR-CALDESC:Go out to eat for a good cause! Join us at Chipotle (Hwy 287 &
  South Boulder Rd. location) between 5-9:00pm. Tell them that you are dini
 ng in support of WOW! and 33% of proceeds go to the Museum! You can also o
 rder online using code: BGJ4LAG
X-WR-RELCALID:fb986c2ae3f0a12090649cfbb520f92a
X-WR-TIMEZONE:America/Denver
BEGIN:VTIMEZONE
TZID:America/Denver
BEGIN:STANDARD
TZNAME:MST
DTSTART:20221106T020000
TZOFFSETFROM:-0600
TZOFFSETTO:-0700
RDATE:20231105T020000
END:STANDARD
BEGIN:DAYLIGHT
TZNAME:MDT
DTSTART:20230312T020000
TZOFFSETFROM:-0700
TZOFFSETTO:-0600
RDATE:20240310T020000
END:DAYLIGHT
END:VTIMEZONE
BEGIN:VEVENT
UID:499033ba-0bbb-46a3-aa1e-c342e7639ad0
DTSTAMP:20260423T052927Z
DESCRIPTION:Go out to eat for a good cause! Join us at Chipotle (Hwy 287 & 
 South Boulder Rd. location) between 5-9:00pm. Tell them that you are dinin
 g in support of WOW! and 33% of proceeds go to the Museum! You can also or
 der online using code: BGJ4LAG
DTSTART;TZID=America/Denver:20230501T170000
DTEND;TZID=America/Denver:20230501T210000
LOCATION:548 W South Boulder Rd. D\, Lafayette\, CO 80026 US
SUMMARY:Chipotle Fundraiser Night!
END:VEVENT
END:VCALENDAR
