BEGIN:VCALENDAR
VERSION:2.0
PRODID:-//wowchildrensmuseum.org//NONSGML kigkonsult.se iCalcreator 2.30.10
 //
CALSCALE:GREGORIAN
METHOD:PUBLISH
UID:ed864a4a-d675-4c35-82c9-b6a7d475c1a4
X-WR-CALDESC:Leave your mark on WOW! Join Artist Adolfo Romero in making cl
 ay tiles in our Create Space anytime between 12:00-4:00pm. These tiles wil
 l be incorporated into a permanent sculpture installation that will be goi
 ng in to WOW!'s Community Art Garden in Summer 2023. \n\nIncluded with Mus
 eum Admission or Membership.
X-WR-RELCALID:3e48394e6c34526a1fdecde9810aa4ac
X-WR-TIMEZONE:America/Denver
BEGIN:VTIMEZONE
TZID:America/Denver
BEGIN:STANDARD
TZNAME:MST
DTSTART:20221106T020000
TZOFFSETFROM:-0600
TZOFFSETTO:-0700
RDATE:20231105T020000
END:STANDARD
BEGIN:DAYLIGHT
TZNAME:MDT
DTSTART:20230312T020000
TZOFFSETFROM:-0700
TZOFFSETTO:-0600
RDATE:20240310T020000
END:DAYLIGHT
END:VTIMEZONE
BEGIN:VEVENT
UID:8e25beb7-6b4b-4ad5-818b-9ec06dfb82d8
DTSTAMP:20260423T073352Z
DESCRIPTION:Leave your mark on WOW! Join Artist Adolfo Romero in making cla
 y tiles in our Create Space anytime between 12:00-4:00pm. These tiles will
  be incorporated into a permanent sculpture installation that will be goin
 g in to WOW!'s Community Art Garden in Summer 2023. \n\nIncluded with Muse
 um Admission or Membership.
DTSTART;TZID=America/Denver:20230429T110000
DTEND;TZID=America/Denver:20230429T140000
LOCATION:
SUMMARY:Tile Making with Artist Adolfo Romero
END:VEVENT
END:VCALENDAR
