BEGIN:VCALENDAR
VERSION:2.0
PRODID:-//wowchildrensmuseum.org//NONSGML kigkonsult.se iCalcreator 2.30.10
 //
CALSCALE:GREGORIAN
METHOD:PUBLISH
UID:879f2545-effa-4dc9-bf2c-ec74c82a37c3
X-WR-CALDESC:Leave your mark on WOW! Join Artist Adolfo Romero in making cl
 ay tiles in our Create Space anytime between 12:00-4:00pm. These tiles wil
 l be incorporated into a permanent sculpture installation that will be goi
 ng in to WOW!'s Community Art Garden in Summer 2023. \n\nIncluded with Mus
 eum Admission or Membership.
X-WR-RELCALID:386389f6b66cf0c17630eaaf98d4c64f
X-WR-TIMEZONE:America/Denver
BEGIN:VTIMEZONE
TZID:America/Denver
BEGIN:STANDARD
TZNAME:MST
DTSTART:20221106T020000
TZOFFSETFROM:-0600
TZOFFSETTO:-0700
RDATE:20231105T020000
END:STANDARD
BEGIN:DAYLIGHT
TZNAME:MDT
DTSTART:20230312T020000
TZOFFSETFROM:-0700
TZOFFSETTO:-0600
RDATE:20240310T020000
END:DAYLIGHT
END:VTIMEZONE
BEGIN:VEVENT
UID:55dbf48e-ed12-4c94-9303-2399f37ec0df
DTSTAMP:20260423T073644Z
DESCRIPTION:Leave your mark on WOW! Join Artist Adolfo Romero in making cla
 y tiles in our Create Space anytime between 12:00-4:00pm. These tiles will
  be incorporated into a permanent sculpture installation that will be goin
 g in to WOW!'s Community Art Garden in Summer 2023. \n\nIncluded with Muse
 um Admission or Membership.
DTSTART;TZID=America/Denver:20230415T110000
DTEND;TZID=America/Denver:20230415T140000
LOCATION:
SUMMARY:Tile Making with Artist Adolfo Romero
END:VEVENT
END:VCALENDAR
