BEGIN:VCALENDAR
VERSION:2.0
PRODID:-//wowchildrensmuseum.org//NONSGML kigkonsult.se iCalcreator 2.30.10
 //
CALSCALE:GREGORIAN
METHOD:PUBLISH
UID:b549a590-6033-4ada-9fc1-4d7e2acef808
X-WR-CALDESC:Waddle over to WOW! for a 'Bird Show and Tell' session to disc
 over the joy of birds with your child! Explore feathers\, skulls\, owl pel
 lets\, and more to help you and your child nurture your fascination for bi
 rds! \n\nIncluded with Museum Admission or Membership.
X-WR-RELCALID:93ea367d596eba670083436b1868af64
X-WR-TIMEZONE:America/Denver
BEGIN:VTIMEZONE
TZID:America/Denver
BEGIN:STANDARD
TZNAME:MST
DTSTART:20221106T020000
TZOFFSETFROM:-0600
TZOFFSETTO:-0700
RDATE:20231105T020000
END:STANDARD
BEGIN:DAYLIGHT
TZNAME:MDT
DTSTART:20230312T020000
TZOFFSETFROM:-0700
TZOFFSETTO:-0600
RDATE:20240310T020000
END:DAYLIGHT
END:VTIMEZONE
BEGIN:VEVENT
UID:c41b76b7-7bf9-472b-8d59-5520b6eb4df3
DTSTAMP:20260423T092043Z
DESCRIPTION:Waddle over to WOW! for a 'Bird Show and Tell' session to disco
 ver the joy of birds with your child! Explore feathers\, skulls\, owl pell
 ets\, and more to help you and your child nurture your fascination for bir
 ds! \n\nIncluded with Museum Admission or Membership.
DTSTART;TZID=America/Denver:20230329T100000
DTEND;TZID=America/Denver:20230329T113000
LOCATION:
SUMMARY:Bird Show and Tell with Martin Ogle
END:VEVENT
END:VCALENDAR
