BEGIN:VCALENDAR
VERSION:2.0
PRODID:-//wowchildrensmuseum.org//NONSGML kigkonsult.se iCalcreator 2.30.10
 //
CALSCALE:GREGORIAN
METHOD:PUBLISH
UID:bc469e0e-7c9b-43df-8448-785145bb2752
X-WR-CALDESC:Ahoy mateys! Meet local author Kelly Price as she celebrates t
 he launch of her new children's book 'Kaci the Pirate.' Kelly will read th
 e story followed by an opportunity to purchase signed copies of the book. 
 Light refreshments provided.\n\n'Kaci the Pirate' tells the tale of Kaci w
 ho sails the seas to the Mystic Island of Chocolate Delights with her pet 
 crocodile\, Nizel-Kabo. \n\nIncluded with Museum Admission or Membership.
X-WR-RELCALID:a44293e302156270bd848a51356a4488
X-WR-TIMEZONE:America/Denver
BEGIN:VTIMEZONE
TZID:America/Denver
BEGIN:STANDARD
TZNAME:MST
DTSTART:20221106T020000
TZOFFSETFROM:-0600
TZOFFSETTO:-0700
RDATE:20231105T020000
END:STANDARD
BEGIN:DAYLIGHT
TZNAME:MDT
DTSTART:20230312T020000
TZOFFSETFROM:-0700
TZOFFSETTO:-0600
RDATE:20240310T020000
END:DAYLIGHT
END:VTIMEZONE
BEGIN:VEVENT
UID:0ce67419-c22e-4f2d-899e-afed60ec1c01
DTSTAMP:20260423T092806Z
DESCRIPTION:Ahoy mateys! Meet local author Kelly Price as she celebrates th
 e launch of her new children's book 'Kaci the Pirate.' Kelly will read the
  story followed by an opportunity to purchase signed copies of the book. L
 ight refreshments provided.\n\n'Kaci the Pirate' tells the tale of Kaci wh
 o sails the seas to the Mystic Island of Chocolate Delights with her pet c
 rocodile\, Nizel-Kabo. \n\nIncluded with Museum Admission or Membership.
DTSTART;TZID=America/Denver:20230328T150000
DTEND;TZID=America/Denver:20230328T153000
LOCATION:
SUMMARY:Storytime and Book Launch Party with Author Kelly Price
END:VEVENT
END:VCALENDAR
