BEGIN:VCALENDAR
VERSION:2.0
PRODID:-//wowchildrensmuseum.org//NONSGML kigkonsult.se iCalcreator 2.30.10
 //
CALSCALE:GREGORIAN
METHOD:PUBLISH
UID:7aedde7a-7576-40af-8d2b-1beb7e251230
X-WR-CALDESC:Join us in the Create Space for a special all ages craft time!
 \n\nIncluded with Museum Admission or Membership.
X-WR-RELCALID:5761e2e3b89f3d580bddb9b2326c2273
X-WR-TIMEZONE:America/Denver
BEGIN:VTIMEZONE
TZID:America/Denver
BEGIN:STANDARD
TZNAME:MST
DTSTART:20221106T020000
TZOFFSETFROM:-0600
TZOFFSETTO:-0700
RDATE:20231105T020000
END:STANDARD
BEGIN:DAYLIGHT
TZNAME:MDT
DTSTART:20220313T020000
TZOFFSETFROM:-0700
TZOFFSETTO:-0600
RDATE:20230312T020000
RDATE:20240310T020000
END:DAYLIGHT
END:VTIMEZONE
BEGIN:VEVENT
UID:5f04973c-659e-499f-8e09-0685c906a587
DTSTAMP:20260423T091932Z
DESCRIPTION:Join us in the Create Space for a special all ages craft time!
 \n\nIncluded with Museum Admission or Membership.
DTSTART;TZID=America/Denver:20230307T140000
DTEND;TZID=America/Denver:20230307T150000
LOCATION:
SUMMARY:Let's Craft Together!
END:VEVENT
END:VCALENDAR
