BEGIN:VCALENDAR
VERSION:2.0
PRODID:-//wowchildrensmuseum.org//NONSGML kigkonsult.se iCalcreator 2.30.10
 //
CALSCALE:GREGORIAN
METHOD:PUBLISH
UID:76a6611f-ba78-4020-870e-7413c6c889ef
X-WR-CALDESC:School is out and WOW! is open! Come on in to play! We will be
  open 9:00am-5:00pm today.
X-WR-RELCALID:12bd68e28ed20bdc57655b63149f417d
X-WR-TIMEZONE:America/Denver
BEGIN:VTIMEZONE
TZID:America/Denver
BEGIN:STANDARD
TZNAME:MST
DTSTART:20241103T020000
TZOFFSETFROM:-0600
TZOFFSETTO:-0700
RDATE:20251102T020000
END:STANDARD
BEGIN:DAYLIGHT
TZNAME:MDT
DTSTART:20240310T020000
TZOFFSETFROM:-0700
TZOFFSETTO:-0600
RDATE:20250309T020000
RDATE:20260308T020000
END:DAYLIGHT
END:VTIMEZONE
BEGIN:VEVENT
UID:981d068d-860f-4af4-a8f7-9f70cbdf67eb
DTSTAMP:20260424T014837Z
DESCRIPTION:School is out and WOW! is open! Come on in to play! We will be 
 open 9:00am-5:00pm today.
DTSTART;TZID=America/Denver:20250217T090000
DTEND;TZID=America/Denver:20250217T170000
LOCATION:
SUMMARY:MUSEUM OPEN- President's Day
END:VEVENT
END:VCALENDAR
