BEGIN:VCALENDAR
VERSION:2.0
PRODID:-//wowchildrensmuseum.org//NONSGML kigkonsult.se iCalcreator 2.30.10
 //
CALSCALE:GREGORIAN
METHOD:PUBLISH
UID:a27a6dfa-b28b-4414-be5f-6e9266b94acc
X-WR-CALDESC:It's the yummiest chemistry--The Science of Ice Cream! Learn a
 bout liquids and solids while making ice cream\, then eat your yummy resul
 ts! This class is open to ages 3 and up and their caregivers. \n\nALLERGY 
 WARNING: We will be making and eating ice cream using cow milk and cream.
 \n\n'My Preschooler & Me' Summer Classes are $12 per child or $10 per memb
 er child\, with additional children $8. Adults are free with child registr
 ation. Pre-registration is required. Museum Admission not included with re
 gistration.
X-WR-RELCALID:3adad4d27ba32b98542817a5bbf996f7
X-WR-TIMEZONE:America/Denver
BEGIN:VTIMEZONE
TZID:America/Denver
BEGIN:STANDARD
TZNAME:MST
DTSTART:20231105T020000
TZOFFSETFROM:-0600
TZOFFSETTO:-0700
RDATE:20241103T020000
RDATE:20251102T020000
END:STANDARD
BEGIN:DAYLIGHT
TZNAME:MDT
DTSTART:20240310T020000
TZOFFSETFROM:-0700
TZOFFSETTO:-0600
RDATE:20250309T020000
END:DAYLIGHT
END:VTIMEZONE
BEGIN:VEVENT
UID:4167b79d-6eea-4a73-8cab-e18ccc4b9784
DTSTAMP:20260421T103624Z
DESCRIPTION:It's the yummiest chemistry--The Science of Ice Cream! Learn ab
 out liquids and solids while making ice cream\, then eat your yummy result
 s! This class is open to ages 3 and up and their caregivers. \n\nALLERGY W
 ARNING: We will be making and eating ice cream using cow milk and cream.\n
 \n'My Preschooler & Me' Summer Classes are $12 per child or $10 per member
  child\, with additional children $8. Adults are free with child registrat
 ion. Pre-registration is required. Museum Admission not included with regi
 stration.
DTSTART;TZID=America/Denver:20240711T153000
DTEND;TZID=America/Denver:20240711T161500
LOCATION:
SUMMARY:Science of Ice Cream ($)
END:VEVENT
END:VCALENDAR
