BEGIN:VCALENDAR
VERSION:2.0
PRODID:-//wowchildrensmuseum.org//NONSGML kigkonsult.se iCalcreator 2.30.10
 //
CALSCALE:GREGORIAN
METHOD:PUBLISH
UID:aa551a82-852b-4389-9ed2-c06f23483445
X-WR-CALDESC:Join us a special all ages story time!\n\nIncluded with Museum
  Admission or Membership.
X-WR-RELCALID:54eb6ab03eac07d09d50e93f0fc6a293
X-WR-TIMEZONE:America/Denver
BEGIN:VTIMEZONE
TZID:America/Denver
BEGIN:STANDARD
TZNAME:MST
DTSTART:20271107T020000
TZOFFSETFROM:-0600
TZOFFSETTO:-0700
RDATE:20281105T020000
RDATE:20291104T020000
END:STANDARD
BEGIN:DAYLIGHT
TZNAME:MDT
DTSTART:20280312T020000
TZOFFSETFROM:-0700
TZOFFSETTO:-0600
RDATE:20290311T020000
END:DAYLIGHT
END:VTIMEZONE
BEGIN:VEVENT
UID:3a2975e8-f54f-4b76-81fe-a71ba419bb40
DTSTAMP:20260421T085201Z
DESCRIPTION:Join us a special all ages story time!\n\nIncluded with Museum 
 Admission or Membership.
DTSTART;TZID=America/Denver:20280803T110000
DTEND;TZID=America/Denver:20280803T113000
LOCATION:
SUMMARY:Storytime
END:VEVENT
END:VCALENDAR
