BEGIN:VCALENDAR
VERSION:2.0
PRODID:-//wowchildrensmuseum.org//NONSGML kigkonsult.se iCalcreator 2.30.10
 //
CALSCALE:GREGORIAN
METHOD:PUBLISH
UID:1e7260bd-6c22-4b9f-bc38-cf6072a3380b
X-WR-CALDESC:WOW! is happy to host Play-Well TEKnologies for their summer c
 amp\, Wildlife Wonders using LEGO® Materials. This week-long camp is for c
 hildren ages 7-12. \n\nDesign and build your way through the animal kingdo
 m\, from sea to safari\, using tens of thousands of LEGO® parts. With the 
 guidance of an experienced Play-Well instructor\, you’ll recreate diverse 
 habitats while crafting animals in their natural surroundings. Your animal
  adventure awaits!
X-WR-RELCALID:4cd3198c45cee7138450574832e06098
X-WR-TIMEZONE:America/Denver
BEGIN:VTIMEZONE
TZID:America/Denver
BEGIN:STANDARD
TZNAME:MST
DTSTART:20251102T020000
TZOFFSETFROM:-0600
TZOFFSETTO:-0700
RDATE:20261101T020000
RDATE:20271107T020000
END:STANDARD
BEGIN:DAYLIGHT
TZNAME:MDT
DTSTART:20260308T020000
TZOFFSETFROM:-0700
TZOFFSETTO:-0600
RDATE:20270314T020000
END:DAYLIGHT
END:VTIMEZONE
BEGIN:VEVENT
UID:905a59c4-f1f0-4747-b91f-35d1e0e1baf5
DTSTAMP:20260421T102916Z
DESCRIPTION:WOW! is happy to host Play-Well TEKnologies for their summer ca
 mp\, Wildlife Wonders using LEGO® Materials. This week-long camp is for ch
 ildren ages 7-12. \n\nDesign and build your way through the animal kingdom
 \, from sea to safari\, using tens of thousands of LEGO® parts. With the g
 uidance of an experienced Play-Well instructor\, you’ll recreate diverse h
 abitats while crafting animals in their natural surroundings. Your animal 
 adventure awaits!
DTSTART;TZID=America/Denver:20260713T090000
DTEND;TZID=America/Denver:20260717T120000
LOCATION:
SUMMARY:Play-well TEKnologies Camp ($)
END:VEVENT
END:VCALENDAR
