BEGIN:VCALENDAR
VERSION:2.0
PRODID:-//wowchildrensmuseum.org//NONSGML kigkonsult.se iCalcreator 2.30.10
 //
CALSCALE:GREGORIAN
METHOD:PUBLISH
UID:14605c65-9ff2-4f16-9b0c-d75d49ad6b06
X-WR-CALDESC:Come to WOW! after school and take part in extra awesome STEAM
  activities\, brought to you by WOW! team member\, Max! \n\nSTEAM to the M
 ax! is a recurring program on Thursday afternoons and is recommended for g
 rades K-3. This program is included with Museum Admission or Membership.
X-WR-RELCALID:e8abfa9a37badfa8da34f9905dc25c0f
X-WR-TIMEZONE:America/Denver
BEGIN:VTIMEZONE
TZID:America/Denver
BEGIN:STANDARD
TZNAME:MST
DTSTART:20251102T020000
TZOFFSETFROM:-0600
TZOFFSETTO:-0700
RDATE:20261101T020000
RDATE:20271107T020000
END:STANDARD
BEGIN:DAYLIGHT
TZNAME:MDT
DTSTART:20260308T020000
TZOFFSETFROM:-0700
TZOFFSETTO:-0600
RDATE:20270314T020000
END:DAYLIGHT
END:VTIMEZONE
BEGIN:VEVENT
UID:cbf92296-fa0e-49a1-8a04-c197b942ac9d
DTSTAMP:20260421T090010Z
DESCRIPTION:Come to WOW! after school and take part in extra awesome STEAM 
 activities\, brought to you by WOW! team member\, Max! \n\nSTEAM to the Ma
 x! is a recurring program on Thursday afternoons and is recommended for gr
 ades K-3. This program is included with Museum Admission or Membership.
DTSTART;TZID=America/Denver:20260528T153000
DTEND;TZID=America/Denver:20260528T161500
LOCATION:
SUMMARY:STEAM to the Max!
END:VEVENT
END:VCALENDAR
