BEGIN:VCALENDAR
VERSION:2.0
PRODID:-//wowchildrensmuseum.org//NONSGML kigkonsult.se iCalcreator 2.30.10
 //
CALSCALE:GREGORIAN
METHOD:PUBLISH
UID:6de73b51-241d-4fee-85a6-de3cd50a191b
X-WR-CALDESC:Attention teens and former WOW! kids--this event is for you! J
 oin us for WOW! Next\, a series of after-hours activities just for an olde
 r age group. This WOW! Next event will feature a variety of board games! B
 ring your own snacks and drinks.\n\nTickets are $15 per person. The recomm
 ended age group for this event is 11-17 years old.
X-WR-RELCALID:18b5ac79279c655f9c5c185743b25faf
X-WR-TIMEZONE:America/Denver
BEGIN:VTIMEZONE
TZID:America/Denver
BEGIN:STANDARD
TZNAME:MST
DTSTART:20251102T020000
TZOFFSETFROM:-0600
TZOFFSETTO:-0700
RDATE:20261101T020000
END:STANDARD
BEGIN:DAYLIGHT
TZNAME:MDT
DTSTART:20260308T020000
TZOFFSETFROM:-0700
TZOFFSETTO:-0600
RDATE:20270314T020000
END:DAYLIGHT
END:VTIMEZONE
BEGIN:VEVENT
UID:5496c566-5900-4eb4-9a47-c51d797e812e
DTSTAMP:20260419T124457Z
DESCRIPTION:Attention teens and former WOW! kids--this event is for you! Jo
 in us for WOW! Next\, a series of after-hours activities just for an older
  age group. This WOW! Next event will feature a variety of board games! Br
 ing your own snacks and drinks.\n\nTickets are $15 per person. The recomme
 nded age group for this event is 11-17 years old.
DTSTART;TZID=America/Denver:20260502T180000
DTEND;TZID=America/Denver:20260502T200000
LOCATION:
SUMMARY:WOW! Next: Teen Game Night ($)
END:VEVENT
END:VCALENDAR
