BEGIN:VCALENDAR
VERSION:2.0
PRODID:-//wowchildrensmuseum.org//NONSGML kigkonsult.se iCalcreator 2.30.10
 //
CALSCALE:GREGORIAN
METHOD:PUBLISH
UID:f3beb997-e40d-4738-91d2-5cb7c67da961
X-WR-CALDESC:Join us for Sensory Friendly Playtime\, a special Museum progr
 am for children with autism spectrum or sensory processing disorders. WOW!
  will limit capacity\, turn down sounds and lights\, and provide adaptive 
 equipment to offer a safe and fun experience for all! Dandelion Arts Colle
 ctive will be here today!\n\nAdmission is $1 for participants thanks to WO
 W!'s donor-supported Play for All Initiative.\nIf the registration link is
  inactive\, that means our event is at full capacity and we cannot accept 
 new registrations.
X-WR-RELCALID:7b626293f9528c888376662b92467506
X-WR-TIMEZONE:America/Denver
BEGIN:VTIMEZONE
TZID:America/Denver
BEGIN:STANDARD
TZNAME:MST
DTSTART:20251102T020000
TZOFFSETFROM:-0600
TZOFFSETTO:-0700
RDATE:20261101T020000
END:STANDARD
BEGIN:DAYLIGHT
TZNAME:MDT
DTSTART:20260308T020000
TZOFFSETFROM:-0700
TZOFFSETTO:-0600
RDATE:20270314T020000
END:DAYLIGHT
END:VTIMEZONE
BEGIN:VEVENT
UID:68511b7d-120f-4716-b53c-1b1167a51d65
DTSTAMP:20260421T084829Z
DESCRIPTION:Join us for Sensory Friendly Playtime\, a special Museum progra
 m for children with autism spectrum or sensory processing disorders. WOW! 
 will limit capacity\, turn down sounds and lights\, and provide adaptive e
 quipment to offer a safe and fun experience for all! Dandelion Arts Collec
 tive will be here today!\n\nAdmission is $1 for participants thanks to WOW
 !'s donor-supported Play for All Initiative.\nIf the registration link is 
 inactive\, that means our event is at full capacity and we cannot accept n
 ew registrations.
DTSTART;TZID=America/Denver:20260315T100000
DTEND;TZID=America/Denver:20260315T120000
LOCATION:
SUMMARY:Sensory Friendly Playtime
END:VEVENT
END:VCALENDAR
