BEGIN:VCALENDAR
VERSION:2.0
PRODID:-//wowchildrensmuseum.org//NONSGML kigkonsult.se iCalcreator 2.30.10
 //
CALSCALE:GREGORIAN
METHOD:PUBLISH
UID:a6ce3f96-bde1-4b90-95f8-3e073855924e
X-WR-CALDESC:Due to our Candyland Carnival Family Fundraiser\, WOW! will be
  closing early at 3:00pm today. Thanks for understanding!
X-WR-RELCALID:1c863245d1866ae314ba2cc3d056df3f
X-WR-TIMEZONE:America/Denver
BEGIN:VTIMEZONE
TZID:America/Denver
BEGIN:STANDARD
TZNAME:MST
DTSTART:20231105T020000
TZOFFSETFROM:-0600
TZOFFSETTO:-0700
RDATE:20241103T020000
END:STANDARD
BEGIN:DAYLIGHT
TZNAME:MDT
DTSTART:20240310T020000
TZOFFSETFROM:-0700
TZOFFSETTO:-0600
RDATE:20250309T020000
END:DAYLIGHT
END:VTIMEZONE
BEGIN:VEVENT
UID:1b04c8a2-6bab-49f8-a23f-499f967c45cd
DTSTAMP:20260422T201425Z
DESCRIPTION:Due to our Candyland Carnival Family Fundraiser\, WOW! will be 
 closing early at 3:00pm today. Thanks for understanding!
DTSTART;TZID=America/Denver:20240413T040000
DTEND;TZID=America/Denver:20240413T040001
LOCATION:
SUMMARY:Closing Early at 3:00pm
END:VEVENT
END:VCALENDAR
