BEGIN:VCALENDAR
VERSION:2.0
PRODID:-//wowchildrensmuseum.org//NONSGML kigkonsult.se iCalcreator 2.30.10
 //
CALSCALE:GREGORIAN
METHOD:PUBLISH
UID:8c34e2ad-931d-4aea-9dfa-ac8b3ab698ff
X-WR-CALDESC:Included with Museum Admission or Membership
X-WR-RELCALID:114fb08897f4cc6cb1a2b65fa1390fee
X-WR-TIMEZONE:America/Denver
BEGIN:VTIMEZONE
TZID:America/Denver
BEGIN:STANDARD
TZNAME:MST
DTSTART:20231105T020000
TZOFFSETFROM:-0600
TZOFFSETTO:-0700
RDATE:20241103T020000
END:STANDARD
BEGIN:DAYLIGHT
TZNAME:MDT
DTSTART:20240310T020000
TZOFFSETFROM:-0700
TZOFFSETTO:-0600
RDATE:20250309T020000
END:DAYLIGHT
END:VTIMEZONE
BEGIN:VEVENT
UID:557ddbf0-9d36-42f4-8285-9176539730e9
DTSTAMP:20260422T215303Z
DESCRIPTION:Included with Museum Admission or Membership
DTSTART;TZID=America/Denver:20240329T140000
DTEND;TZID=America/Denver:20240329T143000
LOCATION:
SUMMARY:Storytime
END:VEVENT
END:VCALENDAR
