BEGIN:VCALENDAR
VERSION:2.0
PRODID:-//wowchildrensmuseum.org//NONSGML kigkonsult.se iCalcreator 2.30.10
 //
CALSCALE:GREGORIAN
METHOD:PUBLISH
UID:73aa8b12-544e-447e-8010-a93cd70feb8c
X-WR-CALDESC:It's BVSD Spring Break week\, so WOW! has extra programming ru
 nning all week long! Drop in starting at 10:00 on Friday for a special cra
 ft time in the Activity Rooms.\n\nIncluded with Museum Admission or Member
 ship.
X-WR-RELCALID:25e3318ccec6ff289c7cca71b20b4f0b
X-WR-TIMEZONE:America/Denver
BEGIN:VTIMEZONE
TZID:America/Denver
BEGIN:STANDARD
TZNAME:MST
DTSTART:20231105T020000
TZOFFSETFROM:-0600
TZOFFSETTO:-0700
RDATE:20241103T020000
END:STANDARD
BEGIN:DAYLIGHT
TZNAME:MDT
DTSTART:20240310T020000
TZOFFSETFROM:-0700
TZOFFSETTO:-0600
RDATE:20250309T020000
END:DAYLIGHT
END:VTIMEZONE
BEGIN:VEVENT
UID:95699a4c-3e00-4f83-995f-abfc789145bf
DTSTAMP:20260422T215020Z
DESCRIPTION:It's BVSD Spring Break week\, so WOW! has extra programming run
 ning all week long! Drop in starting at 10:00 on Friday for a special craf
 t time in the Activity Rooms.\n\nIncluded with Museum Admission or Members
 hip.
DTSTART;TZID=America/Denver:20240329T100000
DTEND;TZID=America/Denver:20240329T110000
LOCATION:
SUMMARY:Craft Time!
END:VEVENT
END:VCALENDAR
