BEGIN:VCALENDAR
VERSION:2.0
PRODID:-//wowchildrensmuseum.org//NONSGML kigkonsult.se iCalcreator 2.30.10
 //
CALSCALE:GREGORIAN
METHOD:PUBLISH
UID:e77e97a0-919a-4810-b860-25cc0fffdb35
X-WR-CALDESC:Included with Museum Admission or Membership
X-WR-RELCALID:77071579515badbc893dbb59797072c5
X-WR-TIMEZONE:America/Denver
BEGIN:VTIMEZONE
TZID:America/Denver
BEGIN:STANDARD
TZNAME:MST
DTSTART:20231105T020000
TZOFFSETFROM:-0600
TZOFFSETTO:-0700
RDATE:20241103T020000
END:STANDARD
BEGIN:DAYLIGHT
TZNAME:MDT
DTSTART:20240310T020000
TZOFFSETFROM:-0700
TZOFFSETTO:-0600
RDATE:20250309T020000
END:DAYLIGHT
END:VTIMEZONE
BEGIN:VEVENT
UID:41f4424e-48aa-4b09-b8d8-e22b00ed56a0
DTSTAMP:20260422T215233Z
DESCRIPTION:Included with Museum Admission or Membership
DTSTART;TZID=America/Denver:20240327T150000
DTEND;TZID=America/Denver:20240327T153000
LOCATION:
SUMMARY:Storytime
END:VEVENT
END:VCALENDAR
