BEGIN:VCALENDAR
VERSION:2.0
PRODID:-//wowchildrensmuseum.org//NONSGML kigkonsult.se iCalcreator 2.30.10
 //
CALSCALE:GREGORIAN
METHOD:PUBLISH
UID:f12280af-3464-4f63-b63b-2a166a538f92
X-WR-CALDESC:Due to inclement weather\, WOW! will be closed today\, 3/13.
X-WR-RELCALID:9069290e107760bc687a46b3737830fd
X-WR-TIMEZONE:America/Denver
BEGIN:VTIMEZONE
TZID:America/Denver
BEGIN:STANDARD
TZNAME:MST
DTSTART:20231105T020000
TZOFFSETFROM:-0600
TZOFFSETTO:-0700
RDATE:20241103T020000
END:STANDARD
BEGIN:DAYLIGHT
TZNAME:MDT
DTSTART:20240310T020000
TZOFFSETFROM:-0700
TZOFFSETTO:-0600
RDATE:20250309T020000
END:DAYLIGHT
END:VTIMEZONE
BEGIN:VEVENT
UID:804f5b78-b3a1-4e5a-abea-1ecd848b5fab
DTSTAMP:20260422T220200Z
DESCRIPTION:Due to inclement weather\, WOW! will be closed today\, 3/13.
DTSTART;TZID=America/Denver:20240315T040000
DTEND;TZID=America/Denver:20240315T040001
LOCATION:
SUMMARY:MUSEUM CLOSED DUE TO WEATHER
END:VEVENT
END:VCALENDAR
