BEGIN:VCALENDAR
VERSION:2.0
PRODID:-//wowchildrensmuseum.org//NONSGML kigkonsult.se iCalcreator 2.30.10
 //
CALSCALE:GREGORIAN
METHOD:PUBLISH
UID:7849ecbf-e104-4830-b5d5-5c0137dc65e3
X-WR-CALDESC:Due to a special event\, WOW! will be closing at 4:30pm today\
 , Friday\, March 8th. Thank you for understanding!
X-WR-RELCALID:c021d00680ee2601f68f3dcab02a2da6
X-WR-TIMEZONE:America/Denver
BEGIN:VTIMEZONE
TZID:America/Denver
BEGIN:STANDARD
TZNAME:MST
DTSTART:20231105T020000
TZOFFSETFROM:-0600
TZOFFSETTO:-0700
RDATE:20241103T020000
END:STANDARD
BEGIN:DAYLIGHT
TZNAME:MDT
DTSTART:20230312T020000
TZOFFSETFROM:-0700
TZOFFSETTO:-0600
RDATE:20240310T020000
RDATE:20250309T020000
END:DAYLIGHT
END:VTIMEZONE
BEGIN:VEVENT
UID:ca591228-f050-4d8e-855d-1420144460ba
DTSTAMP:20260422T215400Z
DESCRIPTION:Due to a special event\, WOW! will be closing at 4:30pm today\,
  Friday\, March 8th. Thank you for understanding!
DTSTART;TZID=America/Denver:20240308T040000
DTEND;TZID=America/Denver:20240308T040001
LOCATION:
SUMMARY:Closing Early at 4:30
END:VEVENT
END:VCALENDAR
