BEGIN:VCALENDAR
VERSION:2.0
PRODID:-//wowchildrensmuseum.org//NONSGML kigkonsult.se iCalcreator 2.30.10
 //
CALSCALE:GREGORIAN
METHOD:PUBLISH
UID:e0305df1-9fd3-4c37-aa51-cd4b6f4f5d03
X-WR-CALDESC:The Museum is open for play today from 9:00am-5:00pm. In suppo
 rt of our community members who are immunocompromised or prefer wearing ma
 sks\, masks will be required for ages 3 and up. \n\nRegular admission rate
 s apply. No reservation necessary.
X-WR-RELCALID:d840e30d8ac58b8599116ee735c7660c
X-WR-TIMEZONE:America/Denver
BEGIN:VTIMEZONE
TZID:America/Denver
BEGIN:STANDARD
TZNAME:MST
DTSTART:20231105T020000
TZOFFSETFROM:-0600
TZOFFSETTO:-0700
RDATE:20241103T020000
END:STANDARD
BEGIN:DAYLIGHT
TZNAME:MDT
DTSTART:20230312T020000
TZOFFSETFROM:-0700
TZOFFSETTO:-0600
RDATE:20240310T020000
RDATE:20250309T020000
END:DAYLIGHT
END:VTIMEZONE
BEGIN:VEVENT
UID:0810320b-7686-47b3-8ef4-9efae3eb3067
DTSTAMP:20260422T215758Z
DESCRIPTION:The Museum is open for play today from 9:00am-5:00pm. In suppor
 t of our community members who are immunocompromised or prefer wearing mas
 ks\, masks will be required for ages 3 and up. \n\nRegular admission rates
  apply. No reservation necessary.
DTSTART;TZID=America/Denver:20240304T090000
DTEND;TZID=America/Denver:20240304T170000
LOCATION:
SUMMARY:MUSEUM OPEN- MASKED MONDAY
END:VEVENT
END:VCALENDAR
