BEGIN:VCALENDAR
VERSION:2.0
PRODID:-//wowchildrensmuseum.org//NONSGML kigkonsult.se iCalcreator 2.30.10
 //
CALSCALE:GREGORIAN
METHOD:PUBLISH
UID:5ba2ce1f-9bf5-46fb-8218-afc885f78e84
X-WR-CALDESC:Join us in the Create Space for a special storytime and craft 
 based on the book 'The Color Monster: A Story About Emotions' by Anna Llen
 as.\n\nIncluded with Museum Admission or Membership.
X-WR-RELCALID:6361a268d74eae2cb4ce88245ad315da
X-WR-TIMEZONE:America/Denver
BEGIN:VTIMEZONE
TZID:America/Denver
BEGIN:STANDARD
TZNAME:MST
DTSTART:20231105T020000
TZOFFSETFROM:-0600
TZOFFSETTO:-0700
RDATE:20241103T020000
END:STANDARD
BEGIN:DAYLIGHT
TZNAME:MDT
DTSTART:20230312T020000
TZOFFSETFROM:-0700
TZOFFSETTO:-0600
RDATE:20240310T020000
RDATE:20250309T020000
END:DAYLIGHT
END:VTIMEZONE
BEGIN:VEVENT
UID:769787f8-b886-4762-91a5-3d0f0ff1047a
DTSTAMP:20260423T012154Z
DESCRIPTION:Join us in the Create Space for a special storytime and craft b
 ased on the book 'The Color Monster: A Story About Emotions' by Anna Llena
 s.\n\nIncluded with Museum Admission or Membership.
DTSTART;TZID=America/Denver:20240124T140000
DTEND;TZID=America/Denver:20240124T143000
LOCATION:
SUMMARY:'The Color Monster' Story & Craft
END:VEVENT
END:VCALENDAR
