BEGIN:VCALENDAR
VERSION:2.0
PRODID:-//wowchildrensmuseum.org//NONSGML kigkonsult.se iCalcreator 2.30.10
 //
CALSCALE:GREGORIAN
METHOD:PUBLISH
UID:169fdb8e-2ccd-4272-9dec-35a74ad6045c
X-WR-CALDESC:WOW! will be operating with a one-hour delay on Tuesday\, Janu
 ary 16th and will open at 10AM.
X-WR-RELCALID:e51c7bd0c82a3f733dbd49f9aa950e9b
X-WR-TIMEZONE:America/Denver
BEGIN:VTIMEZONE
TZID:America/Denver
BEGIN:STANDARD
TZNAME:MST
DTSTART:20231105T020000
TZOFFSETFROM:-0600
TZOFFSETTO:-0700
RDATE:20241103T020000
END:STANDARD
BEGIN:DAYLIGHT
TZNAME:MDT
DTSTART:20230312T020000
TZOFFSETFROM:-0700
TZOFFSETTO:-0600
RDATE:20240310T020000
RDATE:20250309T020000
END:DAYLIGHT
END:VTIMEZONE
BEGIN:VEVENT
UID:f0768555-d586-40f2-918e-11f59f62ae7b
DTSTAMP:20260423T010512Z
DESCRIPTION:WOW! will be operating with a one-hour delay on Tuesday\, Janua
 ry 16th and will open at 10AM.
DTSTART;TZID=America/Denver:20240116T100000
DTEND;TZID=America/Denver:20240116T170000
LOCATION:
SUMMARY:Late Open - 10AM
END:VEVENT
END:VCALENDAR
