BEGIN:VCALENDAR
VERSION:2.0
PRODID:-//wowchildrensmuseum.org//NONSGML kigkonsult.se iCalcreator 2.30.10
 //
CALSCALE:GREGORIAN
METHOD:PUBLISH
UID:9d89a2e1-b4e5-49a7-bb02-e384ce0836ca
X-WR-CALDESC:The Museum is open for play today from 9:00am-5:00pm. In suppo
 rt of our community members who are immunocompromised or prefer wearing ma
 sks\, masks will be required for ages 3 and up. \n\nRegular admission rate
 s apply. No reservation necessary.
X-WR-RELCALID:b653fbf0f562b14216197df69fbb64cc
X-WR-TIMEZONE:America/Denver
BEGIN:VTIMEZONE
TZID:America/Denver
BEGIN:STANDARD
TZNAME:MST
DTSTART:20231105T020000
TZOFFSETFROM:-0600
TZOFFSETTO:-0700
RDATE:20241103T020000
END:STANDARD
BEGIN:DAYLIGHT
TZNAME:MDT
DTSTART:20230312T020000
TZOFFSETFROM:-0700
TZOFFSETTO:-0600
RDATE:20240310T020000
RDATE:20250309T020000
END:DAYLIGHT
END:VTIMEZONE
BEGIN:VEVENT
UID:6be2665d-7cb0-4a1f-bd8f-84fc64b7afd8
DTSTAMP:20260423T010645Z
DESCRIPTION:The Museum is open for play today from 9:00am-5:00pm. In suppor
 t of our community members who are immunocompromised or prefer wearing mas
 ks\, masks will be required for ages 3 and up. \n\nRegular admission rates
  apply. No reservation necessary.
DTSTART;TZID=America/Denver:20240108T090000
DTEND;TZID=America/Denver:20240108T170000
LOCATION:
SUMMARY:MUSEUM OPEN- MASKED MONDAY
END:VEVENT
END:VCALENDAR
