BEGIN:VCALENDAR
VERSION:2.0
PRODID:-//wowchildrensmuseum.org//NONSGML kigkonsult.se iCalcreator 2.30.10
 //
CALSCALE:GREGORIAN
METHOD:PUBLISH
UID:1f9dac37-b407-4a0c-a789-3bf48fda313d
X-WR-CALDESC:WOW! is closed today for the holiday!
X-WR-RELCALID:0f8267737d38dd9df2637e050591054e
X-WR-TIMEZONE:America/Denver
BEGIN:VTIMEZONE
TZID:America/Denver
BEGIN:STANDARD
TZNAME:MST
DTSTART:20231105T020000
TZOFFSETFROM:-0600
TZOFFSETTO:-0700
RDATE:20241103T020000
END:STANDARD
BEGIN:DAYLIGHT
TZNAME:MDT
DTSTART:20230312T020000
TZOFFSETFROM:-0700
TZOFFSETTO:-0600
RDATE:20240310T020000
RDATE:20250309T020000
END:DAYLIGHT
END:VTIMEZONE
BEGIN:VEVENT
UID:4527b734-e077-4b16-afde-70a0d3144b5d
DTSTAMP:20260423T023710Z
DESCRIPTION:WOW! is closed today for the holiday!
DTSTART;TZID=America/Denver:20231225T040000
DTEND;TZID=America/Denver:20231225T040001
LOCATION:
SUMMARY:Museum Closed
END:VEVENT
END:VCALENDAR
