BEGIN:VCALENDAR
VERSION:2.0
PRODID:-//wowchildrensmuseum.org//NONSGML kigkonsult.se iCalcreator 2.30.10
 //
CALSCALE:GREGORIAN
METHOD:PUBLISH
UID:cebee611-dc80-4575-befb-d864f3bb198e
X-WR-CALDESC:
X-WR-RELCALID:dda58d37c93f7af749e02eff2b1d41b3
X-WR-TIMEZONE:America/Denver
BEGIN:VTIMEZONE
TZID:America/Denver
BEGIN:STANDARD
TZNAME:MST
DTSTART:20231105T020000
TZOFFSETFROM:-0600
TZOFFSETTO:-0700
RDATE:20241103T020000
END:STANDARD
BEGIN:DAYLIGHT
TZNAME:MDT
DTSTART:20230312T020000
TZOFFSETFROM:-0700
TZOFFSETTO:-0600
RDATE:20240310T020000
RDATE:20250309T020000
END:DAYLIGHT
END:VTIMEZONE
BEGIN:VEVENT
UID:110472a6-d57e-4d1a-aff5-82e6832025b4
DTSTAMP:20260423T041053Z
DESCRIPTION:
DTSTART;TZID=America/Denver:20231130T040000
DTEND;TZID=America/Denver:20231130T040001
LOCATION:
SUMMARY:CLOSED TODAY
END:VEVENT
END:VCALENDAR
