BEGIN:VCALENDAR
VERSION:2.0
PRODID:-//wowchildrensmuseum.org//NONSGML kigkonsult.se iCalcreator 2.30.10
 //
CALSCALE:GREGORIAN
METHOD:PUBLISH
UID:0d1baf41-cc89-44af-ac4e-69305bf23704
X-WR-CALDESC:School is out and WOW! is open! Come on in for a day of play. 
 Open 9:00am-5:00pm.
X-WR-RELCALID:a13444f8402c0edcb8fb3e9989675964
X-WR-TIMEZONE:America/Denver
BEGIN:VTIMEZONE
TZID:America/Denver
BEGIN:STANDARD
TZNAME:MST
DTSTART:20231105T020000
TZOFFSETFROM:-0600
TZOFFSETTO:-0700
RDATE:20241103T020000
END:STANDARD
BEGIN:DAYLIGHT
TZNAME:MDT
DTSTART:20230312T020000
TZOFFSETFROM:-0700
TZOFFSETTO:-0600
RDATE:20240310T020000
RDATE:20250309T020000
END:DAYLIGHT
END:VTIMEZONE
BEGIN:VEVENT
UID:5a73f0e2-18ca-45ec-afbb-57d06e036da3
DTSTAMP:20260423T041104Z
DESCRIPTION:School is out and WOW! is open! Come on in for a day of play. O
 pen 9:00am-5:00pm.
DTSTART;TZID=America/Denver:20231120T090000
DTEND;TZID=America/Denver:20231120T170000
LOCATION:
SUMMARY:Museum Open!
END:VEVENT
END:VCALENDAR
