BEGIN:VCALENDAR
VERSION:2.0
PRODID:-//wowchildrensmuseum.org//NONSGML kigkonsult.se iCalcreator 2.30.10
 //
CALSCALE:GREGORIAN
METHOD:PUBLISH
UID:50339e5d-f13b-474f-ba8b-246eb5500e03
X-WR-CALDESC:We love meeting our community members! Bring the kids to play 
 and stop by for a cup of joe (or tea!). Join the conversation with fellow 
 parents\, caregivers\, our Exhibits Manager\, and Executive Director. \n\n
 Included with Museum Admission or Membership.
X-WR-RELCALID:b70bdeb3937c3edfd3fb4c291f5eb39a
X-WR-TIMEZONE:America/Denver
BEGIN:VTIMEZONE
TZID:America/Denver
BEGIN:STANDARD
TZNAME:MST
DTSTART:20231105T020000
TZOFFSETFROM:-0600
TZOFFSETTO:-0700
RDATE:20241103T020000
END:STANDARD
BEGIN:DAYLIGHT
TZNAME:MDT
DTSTART:20230312T020000
TZOFFSETFROM:-0700
TZOFFSETTO:-0600
RDATE:20240310T020000
RDATE:20250309T020000
END:DAYLIGHT
END:VTIMEZONE
BEGIN:VEVENT
UID:70977f93-b86a-44ed-8dc9-73ac001ec327
DTSTAMP:20260423T041232Z
DESCRIPTION:We love meeting our community members! Bring the kids to play a
 nd stop by for a cup of joe (or tea!). Join the conversation with fellow p
 arents\, caregivers\, our Exhibits Manager\, and Executive Director. \n\nI
 ncluded with Museum Admission or Membership.
DTSTART;TZID=America/Denver:20231114T093000
DTEND;TZID=America/Denver:20231114T103000
LOCATION:
SUMMARY:Coffee & Caregivers
END:VEVENT
END:VCALENDAR
