BEGIN:VCALENDAR
VERSION:2.0
PRODID:-//wowchildrensmuseum.org//NONSGML kigkonsult.se iCalcreator 2.30.10
 //
CALSCALE:GREGORIAN
METHOD:PUBLISH
UID:d602f4e9-9dbd-4c83-addc-a02b1ef9d027
X-WR-CALDESC:School is out and WOW! is open!
X-WR-RELCALID:5a6865b9fd17dacf57c0cccd5692d6c0
X-WR-TIMEZONE:America/Denver
BEGIN:VTIMEZONE
TZID:America/Denver
BEGIN:STANDARD
TZNAME:MST
DTSTART:20221106T020000
TZOFFSETFROM:-0600
TZOFFSETTO:-0700
RDATE:20231105T020000
RDATE:20241103T020000
END:STANDARD
BEGIN:DAYLIGHT
TZNAME:MDT
DTSTART:20230312T020000
TZOFFSETFROM:-0700
TZOFFSETTO:-0600
RDATE:20240310T020000
RDATE:20250309T020000
END:DAYLIGHT
END:VTIMEZONE
BEGIN:VEVENT
UID:a2e50fbf-8936-4baa-b65c-d919ea1ce590
DTSTAMP:20260423T055240Z
DESCRIPTION:School is out and WOW! is open!
DTSTART;TZID=America/Denver:20231009T090000
DTEND;TZID=America/Denver:20231009T170000
LOCATION:
SUMMARY:MUSEUM OPEN
END:VEVENT
END:VCALENDAR
