BEGIN:VCALENDAR
VERSION:2.0
PRODID:-//wowchildrensmuseum.org//NONSGML kigkonsult.se iCalcreator 2.30.10
 //
CALSCALE:GREGORIAN
METHOD:PUBLISH
UID:a42233a8-ac16-47fc-88a5-904327ecf103
X-WR-CALDESC:Honor Indigenous Peoples' Day with WOW! Children's Museum. Joi
 n us at 10:00 am for a special dance performance and story times and craft
 s throughout the day. \n\nIncluded with Museum Admission or Membership.
X-WR-RELCALID:4a50e655c09919ba8dabe484344962e8
X-WR-TIMEZONE:America/Denver
BEGIN:VTIMEZONE
TZID:America/Denver
BEGIN:STANDARD
TZNAME:MST
DTSTART:20221106T020000
TZOFFSETFROM:-0600
TZOFFSETTO:-0700
RDATE:20231105T020000
RDATE:20241103T020000
END:STANDARD
BEGIN:DAYLIGHT
TZNAME:MDT
DTSTART:20230312T020000
TZOFFSETFROM:-0700
TZOFFSETTO:-0600
RDATE:20240310T020000
RDATE:20250309T020000
END:DAYLIGHT
END:VTIMEZONE
BEGIN:VEVENT
UID:61ec518e-4c6d-4efb-8c2d-a7ccd86a43fe
DTSTAMP:20260423T055705Z
DESCRIPTION:Honor Indigenous Peoples' Day with WOW! Children's Museum. Join
  us at 10:00 am for a special dance performance and story times and crafts
  throughout the day. \n\nIncluded with Museum Admission or Membership.
DTSTART;TZID=America/Denver:20231009T090000
DTEND;TZID=America/Denver:20231009T170000
LOCATION:
SUMMARY:Indigenous Peoples' Day Celebration
END:VEVENT
END:VCALENDAR
