BEGIN:VCALENDAR
VERSION:2.0
PRODID:-//wowchildrensmuseum.org//NONSGML kigkonsult.se iCalcreator 2.30.10
 //
CALSCALE:GREGORIAN
METHOD:PUBLISH
UID:0d6b266d-ad3e-40bc-8d1f-351fa1278249
X-WR-CALDESC:The Museum is closing early at 3:30pm today for a private even
 t.
X-WR-RELCALID:4f30678c9f0ac904960711c6a846fc5b
X-WR-TIMEZONE:America/Denver
BEGIN:VTIMEZONE
TZID:America/Denver
BEGIN:STANDARD
TZNAME:MST
DTSTART:20221106T020000
TZOFFSETFROM:-0600
TZOFFSETTO:-0700
RDATE:20231105T020000
RDATE:20241103T020000
END:STANDARD
BEGIN:DAYLIGHT
TZNAME:MDT
DTSTART:20230312T020000
TZOFFSETFROM:-0700
TZOFFSETTO:-0600
RDATE:20240310T020000
RDATE:20250309T020000
END:DAYLIGHT
END:VTIMEZONE
BEGIN:VEVENT
UID:77d8b5dd-b182-4a11-a208-5959eaf34c2c
DTSTAMP:20260423T055429Z
DESCRIPTION:The Museum is closing early at 3:30pm today for a private event
 .
DTSTART;TZID=America/Denver:20231007T000000
DTEND;TZID=America/Denver:20231007T235900
LOCATION:
SUMMARY:CLOSING EARLY AT 3:30
END:VEVENT
END:VCALENDAR
